BEGIN:VCALENDAR
VERSION:2.0
PRODID:-//pretix//pretix.eu//
BEGIN:VTIMEZONE
TZID:Europe/Berlin
BEGIN:STANDARD
DTSTART:20001029T040000
RRULE:FREQ=YEARLY;BYDAY=-1SU;BYMONTH=10
TZNAME:CET
TZOFFSETFROM:+0200
TZOFFSETTO:+0100
END:STANDARD
BEGIN:DAYLIGHT
DTSTART:20000326T030000
RRULE:FREQ=YEARLY;BYDAY=-1SU;BYMONTH=3
TZNAME:CEST
TZOFFSETFROM:+0100
TZOFFSETTO:+0200
END:DAYLIGHT
END:VTIMEZONE
BEGIN:VEVENT
UID:pretix-Hebammenplattform-mentoring-0@ticket.hebammenplattform.de
DTSTART;TZID=Europe/Berlin:20251013T000000
DTEND;TZID=Europe/Berlin:20260813T235959
DESCRIPTION:Tickets: https://ticket.hebammenplattform.de/mentoring/\nVerans
 talter: Hebammenplattform
DTSTAMP:20260419T145937Z
LOCATION:Online per Zoom
SUMMARY:Mentoring-Programm
END:VEVENT
BEGIN:VEVENT
UID:pretix-Hebammenplattform-praxisanleitung-0@ticket.hebammenplattform.de
DTSTART;TZID=Europe/Berlin:20260212T090000
DTEND;TZID=Europe/Berlin:20260529T121500
DESCRIPTION:Tickets: https://ticket.hebammenplattform.de/praxisanleitung/\n
 Veranstalter: Hebammenplattform
DTSTAMP:20260419T145937Z
LOCATION:Online per Zoom
SUMMARY:Praxisanleitung – 16 Stunden Wissen\, Sicherheit und Orientierung
END:VEVENT
BEGIN:VEVENT
UID:pretix-Hebammenplattform-bautsch-0@ticket.hebammenplattform.de
DTSTART;TZID=Europe/Berlin:20260219T090000
DTEND;TZID=Europe/Berlin:20260427T130000
DESCRIPTION:Tickets: https://ticket.hebammenplattform.de/bautsch/\nVeransta
 lter: Hebammenplattform
DTSTAMP:20260419T145937Z
LOCATION:Online per Zoom
SUMMARY:Stillen sicher begleiten – Deine dreiteilige Weiterbildung für s
 tarke Beratungskompetenz!
END:VEVENT
BEGIN:VEVENT
UID:pretix-Hebammenplattform-wissen-0@ticket.hebammenplattform.de
DTSTART;TZID=Europe/Berlin:20260306T090000
DTEND;TZID=Europe/Berlin:20260529T121500
DESCRIPTION:Tickets: https://ticket.hebammenplattform.de/wissen/\nVeranstal
 ter: Hebammenplattform
DTSTAMP:20260419T145937Z
LOCATION:Online per Zoom
SUMMARY:Praxisanleitung – Wissen\, Sicherheit und Orientierung
END:VEVENT
BEGIN:VEVENT
UID:pretix-Hebammenplattform-sterbeamme-0@ticket.hebammenplattform.de
DTSTART;TZID=Europe/Berlin:20260319T090000
DTEND;TZID=Europe/Berlin:20260416T130000
DESCRIPTION:Tickets: https://ticket.hebammenplattform.de/sterbeamme/\nVeran
 stalter: Hebammenplattform
DTSTAMP:20260419T145937Z
LOCATION:Online per Zoom
SUMMARY:Verloren gegangene Kinder - Sterbeamme
END:VEVENT
BEGIN:VEVENT
UID:pretix-Hebammenplattform-hader-0@ticket.hebammenplattform.de
DTSTART;TZID=Europe/Berlin:20260323T090000
DTEND;TZID=Europe/Berlin:20260323T143000
DESCRIPTION:Tickets: https://ticket.hebammenplattform.de/hader/\nVeranstalt
 er: Hebammenplattform
DTSTAMP:20260419T145937Z
LOCATION:Online per Zoom
SUMMARY:Ulrike Harder - Einstellungsanomalien
END:VEVENT
BEGIN:VEVENT
UID:pretix-Hebammenplattform-schulterdystokie-0@ticket.hebammenplattform.de
DTSTART;TZID=Europe/Berlin:20260325T090000
DTEND;TZID=Europe/Berlin:20260325T143000
DESCRIPTION:Tickets: https://ticket.hebammenplattform.de/schulterdystokie/\
 nVeranstalter: Hebammenplattform
DTSTAMP:20260419T145937Z
LOCATION:Online per Zoom
SUMMARY:Ulrike Harder - Schulterdystokie
END:VEVENT
BEGIN:VEVENT
UID:pretix-Hebammenplattform-diagnostik-0@ticket.hebammenplattform.de
DTSTART;TZID=Europe/Berlin:20260326T090000
DTEND;TZID=Europe/Berlin:20260326T123000
DESCRIPTION:Tickets: https://ticket.hebammenplattform.de/diagnostik/\nVeran
 stalter: Hebammenplattform
DTSTAMP:20260419T145937Z
LOCATION:Online per Zoom
SUMMARY:Peggy Seehafer - Nähen oder nicht nähen? Diagnostik von Geburtsve
 rletzungen
END:VEVENT
BEGIN:VEVENT
UID:pretix-Hebammenplattform-wissen-2-0@ticket.hebammenplattform.de
DTSTART;TZID=Europe/Berlin:20260410T090000
DTEND;TZID=Europe/Berlin:20260529T121500
DESCRIPTION:Tickets: https://ticket.hebammenplattform.de/wissen-2/\nVeranst
 alter: Hebammenplattform
DTSTAMP:20260419T145937Z
LOCATION:Online per Zoom
SUMMARY:Daniela Erdmann - Praxisanleitung – Wissen\, Sicherheit und Orien
 tierung
END:VEVENT
BEGIN:VEVENT
UID:pretix-Hebammenplattform-wundheilung-0@ticket.hebammenplattform.de
DTSTART;TZID=Europe/Berlin:20260413T090000
DTEND;TZID=Europe/Berlin:20260413T150000
DESCRIPTION:Tickets: https://ticket.hebammenplattform.de/wundheilung/\nVera
 nstalter: Hebammenplattform
DTSTAMP:20260419T145937Z
LOCATION:Online per Zoom
SUMMARY:Ist das noch normal? Wundheilung nach Geburt sicher einschätzen
END:VEVENT
BEGIN:VEVENT
UID:pretix-Hebammenplattform-zungenband-0@ticket.hebammenplattform.de
DTSTART;TZID=Europe/Berlin:20260413T090000
DTEND;TZID=Europe/Berlin:20260413T130000
DESCRIPTION:Tickets: https://ticket.hebammenplattform.de/zungenband/\nVeran
 stalter: Hebammenplattform
DTSTAMP:20260419T145937Z
LOCATION:Online per Zoom
SUMMARY:Katrin Bautsch - Das Zungenband
END:VEVENT
BEGIN:VEVENT
UID:pretix-Hebammenplattform-drhildebrandt-4-0@ticket.hebammenplattform.de
DTSTART;TZID=Europe/Berlin:20260415T090000
DTEND;TZID=Europe/Berlin:20260415T120000
DESCRIPTION:Tickets: https://ticket.hebammenplattform.de/drhildebrandt-4/\n
 Veranstalter: Hebammenplattform
DTSTAMP:20260419T145937Z
LOCATION:Online per Zoom
SUMMARY:Prof. Dr. med. Sven Hildebrandt - Gestationsdiabetes
END:VEVENT
BEGIN:VEVENT
UID:pretix-Hebammenplattform-steuer-0@ticket.hebammenplattform.de
DTSTART;TZID=Europe/Berlin:20260415T090000
DTEND;TZID=Europe/Berlin:20260415T130000
DESCRIPTION:Tickets: https://ticket.hebammenplattform.de/steuer/\nVeranstal
 ter: Hebammenplattform
DTSTAMP:20260419T145937Z
LOCATION:Online per Zoom
SUMMARY:Susanne Mengel - Endlich Ordnung im Hebammenalltag - Praxisorganisa
 tion\, Buchhaltung & Zeitmanagement einfach umsetzen
END:VEVENT
BEGIN:VEVENT
UID:pretix-Hebammenplattform-r.egelkraut-2-0@ticket.hebammenplattform.de
DTSTART;TZID=Europe/Berlin:20260417T090000
DTEND;TZID=Europe/Berlin:20260417T160000
DESCRIPTION:Tickets: https://ticket.hebammenplattform.de/r.egelkraut-2/\nVe
 ranstalter: Hebammenplattform
DTSTAMP:20260419T145937Z
LOCATION:Online per Zoom
SUMMARY:Renate Egelkraut - TEIL 2 Schwangerenvorsorge neu denken – zwisch
 en Evidenz\, Empathie und Eigenverantwortung
END:VEVENT
BEGIN:VEVENT
UID:pretix-Hebammenplattform-beckenboden-2-0@ticket.hebammenplattform.de
DTSTART;TZID=Europe/Berlin:20260421T090000
DTEND;TZID=Europe/Berlin:20260421T130000
DESCRIPTION:Tickets: https://ticket.hebammenplattform.de/beckenboden-2/\nVe
 ranstalter: Hebammenplattform
DTSTAMP:20260419T145937Z
LOCATION:Online per Zoom
SUMMARY:Katrin Grabow - Beckenbodenaktivierung in der Schwangerschaft & Geb
 urt
END:VEVENT
BEGIN:VEVENT
UID:pretix-Hebammenplattform-mikronaehrstoffe-2-0@ticket.hebammenplattform.
 de
DTSTART;TZID=Europe/Berlin:20260422T090000
DTEND;TZID=Europe/Berlin:20260422T120000
DESCRIPTION:Tickets: https://ticket.hebammenplattform.de/mikronaehrstoffe-2
 /\nVeranstalter: Hebammenplattform
DTSTAMP:20260419T145937Z
LOCATION:Online per Zoom
SUMMARY:Christine Hoßfeld - Mikronährstoffe in der Schwangerschaft – La
 borbefunde richtig deuten!
END:VEVENT
BEGIN:VEVENT
UID:pretix-Hebammenplattform-greiff-0@ticket.hebammenplattform.de
DTSTART;TZID=Europe/Berlin:20260423T090000
DTEND;TZID=Europe/Berlin:20260505T160000
DESCRIPTION:Tickets: https://ticket.hebammenplattform.de/greiff/\nVeranstal
 ter: Hebammenplattform
DTSTAMP:20260419T145937Z
LOCATION:Online per Zoom
SUMMARY:Burnout vorbeugen\, Kraft zurückgewinnen – Mikronährstoffe\, di
 e wirken
END:VEVENT
BEGIN:VEVENT
UID:pretix-Hebammenplattform-beikost-0@ticket.hebammenplattform.de
DTSTART;TZID=Europe/Berlin:20260428T090000
DTEND;TZID=Europe/Berlin:20260428T160000
DESCRIPTION:Tickets: https://ticket.hebammenplattform.de/beikost/\nVeransta
 lter: Hebammenplattform
DTSTAMP:20260419T145937Z
LOCATION:Online per Zoom
SUMMARY:Edith Gätjen - Beikost in Beziehung – familienorientiert\, nachh
 altig\, vollwertig und hausgemacht
END:VEVENT
BEGIN:VEVENT
UID:pretix-Hebammenplattform-naturheilkunde-0@ticket.hebammenplattform.de
DTSTART;TZID=Europe/Berlin:20260429T090000
DTEND;TZID=Europe/Berlin:20260429T160000
DESCRIPTION:Tickets: https://ticket.hebammenplattform.de/naturheilkunde/\nV
 eranstalter: Hebammenplattform
DTSTAMP:20260419T145937Z
LOCATION:Online per Zoom
SUMMARY:Ingeborg Stadelmann - Naturheilkunde Wochenbett
END:VEVENT
BEGIN:VEVENT
UID:pretix-Hebammenplattform-gestationsdiabetes-0@ticket.hebammenplattform.
 de
DTSTART;TZID=Europe/Berlin:20260430T090000
DTEND;TZID=Europe/Berlin:20260507T150000
DESCRIPTION:Tickets: https://ticket.hebammenplattform.de/gestationsdiabetes
 /\nVeranstalter: Hebammenplattform
DTSTAMP:20260419T145937Z
LOCATION:Online per Zoom
SUMMARY:Jennifer Vagt - Gestationsdiabetes - verstehen\, begleiten\, behand
 eln
END:VEVENT
BEGIN:VEVENT
UID:pretix-Hebammenplattform-infektionen-0@ticket.hebammenplattform.de
DTSTART;TZID=Europe/Berlin:20260507T090000
DTEND;TZID=Europe/Berlin:20260507T120000
DESCRIPTION:Tickets: https://ticket.hebammenplattform.de/infektionen/\nVera
 nstalter: Hebammenplattform
DTSTAMP:20260419T145937Z
LOCATION:Online per Zoom
SUMMARY:Dr. Benjamin Kühne - Neonatale Infektionen - Early- und Late-onset
  Sepsis sicher einschätzen & Warnzeichen erkennen
END:VEVENT
BEGIN:VEVENT
UID:pretix-Hebammenplattform-emmersberger-0@ticket.hebammenplattform.de
DTSTART;TZID=Europe/Berlin:20260508T090000
DTEND;TZID=Europe/Berlin:20260508T150000
DESCRIPTION:Tickets: https://ticket.hebammenplattform.de/emmersberger/\nVer
 anstalter: Hebammenplattform
DTSTAMP:20260419T145937Z
LOCATION:Online per Zoom
SUMMARY:Liane Emmersberger - Kinästhetik Infant Handling
END:VEVENT
BEGIN:VEVENT
UID:pretix-Hebammenplattform-drhildebrandt-0@ticket.hebammenplattform.de
DTSTART;TZID=Europe/Berlin:20260513T090000
DTEND;TZID=Europe/Berlin:20260513T120000
DESCRIPTION:Tickets: https://ticket.hebammenplattform.de/drhildebrandt/\nVe
 ranstalter: Hebammenplattform
DTSTAMP:20260419T145937Z
LOCATION:Online per Zoom
SUMMARY:Prof. Dr. med. Sven Hildebrandt - Präeklampsie
END:VEVENT
BEGIN:VEVENT
UID:pretix-Hebammenplattform-wochenbett2-2-0@ticket.hebammenplattform.de
DTSTART;TZID=Europe/Berlin:20260519T090000
DTEND;TZID=Europe/Berlin:20260519T133000
DESCRIPTION:Tickets: https://ticket.hebammenplattform.de/wochenbett2-2/\nVe
 ranstalter: Hebammenplattform
DTSTAMP:20260419T145937Z
LOCATION:Online per Zoom
SUMMARY:Anne Marja Lützkendorf - Windelfrei Grundlagen & Praxis:
END:VEVENT
BEGIN:VEVENT
UID:pretix-Hebammenplattform-r.egelkraut-0@ticket.hebammenplattform.de
DTSTART;TZID=Europe/Berlin:20260520T090000
DTEND;TZID=Europe/Berlin:20260520T160000
DESCRIPTION:Tickets: https://ticket.hebammenplattform.de/r.egelkraut/\nVera
 nstalter: Hebammenplattform
DTSTAMP:20260419T145937Z
LOCATION:Online per Zoom
SUMMARY:Renate Egelkraut - Schwangerenvorsorge neu denken – zwischen Evid
 enz\, Empathie und Eigenverantwortung
END:VEVENT
BEGIN:VEVENT
UID:pretix-Hebammenplattform-praxisanleitung-2-0@ticket.hebammenplattform.d
 e
DTSTART;TZID=Europe/Berlin:20260521T090000
DTEND;TZID=Europe/Berlin:20261022T120000
DESCRIPTION:Tickets: https://ticket.hebammenplattform.de/praxisanleitung-2/
 \nVeranstalter: Hebammenplattform
DTSTAMP:20260419T145937Z
LOCATION:Online per Zoom
SUMMARY:Heidemarie Kästle - Praxisanleitung – das 24-Stunden-Rundum-Sorg
 los-Paket
END:VEVENT
BEGIN:VEVENT
UID:pretix-Hebammenplattform-ayurveda-0@ticket.hebammenplattform.de
DTSTART;TZID=Europe/Berlin:20260528T143000
DTEND;TZID=Europe/Berlin:20260528T173000
DESCRIPTION:Tickets: https://ticket.hebammenplattform.de/ayurveda/\nVeranst
 alter: Hebammenplattform
DTSTAMP:20260419T145937Z
LOCATION:Online per Zoom
SUMMARY:Ayurveda für Hebammen
END:VEVENT
BEGIN:VEVENT
UID:pretix-Hebammenplattform-erdmann-0@ticket.hebammenplattform.de
DTSTART;TZID=Europe/Berlin:20260601T090000
DTEND;TZID=Europe/Berlin:20260601T160000
DESCRIPTION:Tickets: https://ticket.hebammenplattform.de/erdmann/\nVeransta
 lter: Hebammenplattform
DTSTAMP:20260419T145937Z
LOCATION:Online per Zoom
SUMMARY:Daniela Erdmann - Neues von der Bettkante - Evidenzbasiertes Wochen
 bett­
END:VEVENT
BEGIN:VEVENT
UID:pretix-Hebammenplattform-labordiagnostik2-0@ticket.hebammenplattform.de
DTSTART;TZID=Europe/Berlin:20260603T090000
DTEND;TZID=Europe/Berlin:20260603T134500
DESCRIPTION:Tickets: https://ticket.hebammenplattform.de/labordiagnostik2/\
 nVeranstalter: Hebammenplattform
DTSTAMP:20260419T145937Z
LOCATION:Online per Zoom
SUMMARY:Christine Hoßfeld - Labordiagnostik in der Hebammenpraxis: Grundla
 gen\, Schwangerenvorsorge & Eisenhaushalt
END:VEVENT
BEGIN:VEVENT
UID:pretix-Hebammenplattform-ernaehrung-0@ticket.hebammenplattform.de
DTSTART;TZID=Europe/Berlin:20260608T090000
DTEND;TZID=Europe/Berlin:20260608T160000
DESCRIPTION:Tickets: https://ticket.hebammenplattform.de/ernaehrung/\nVeran
 stalter: Hebammenplattform
DTSTAMP:20260419T145937Z
LOCATION:Online per Zoom
SUMMARY:Edith Gätjen - Ernährung in Schwangerschaft und Stillzeit
END:VEVENT
BEGIN:VEVENT
UID:pretix-Hebammenplattform-oxytocin-2-0@ticket.hebammenplattform.de
DTSTART;TZID=Europe/Berlin:20260609T090000
DTEND;TZID=Europe/Berlin:20260609T120000
DESCRIPTION:Tickets: https://ticket.hebammenplattform.de/oxytocin-2/\nVeran
 stalter: Hebammenplattform
DTSTAMP:20260419T145937Z
LOCATION:Online per Zoom
SUMMARY:Oxytocin and the Impact of Medical Interventions During Birth
END:VEVENT
BEGIN:VEVENT
UID:pretix-Hebammenplattform-stadelmann2-0@ticket.hebammenplattform.de
DTSTART;TZID=Europe/Berlin:20260611T090000
DTEND;TZID=Europe/Berlin:20260611T160000
DESCRIPTION:Tickets: https://ticket.hebammenplattform.de/stadelmann2/\nVera
 nstalter: Hebammenplattform
DTSTAMP:20260419T145937Z
LOCATION:Online per Zoom
SUMMARY:Ingeborg Stadelmann - Naturheilkunde
END:VEVENT
BEGIN:VEVENT
UID:pretix-Hebammenplattform-impfen-0@ticket.hebammenplattform.de
DTSTART;TZID=Europe/Berlin:20260616T090000
DTEND;TZID=Europe/Berlin:20260616T110000
DESCRIPTION:Tickets: https://ticket.hebammenplattform.de/impfen/\nVeranstal
 ter: Hebammenplattform
DTSTAMP:20260419T145937Z
LOCATION:Online per Zoom
SUMMARY:Dr. Stephan Nolte - Maßvoll Impfen
END:VEVENT
BEGIN:VEVENT
UID:pretix-Hebammenplattform-ikterus-0@ticket.hebammenplattform.de
DTSTART;TZID=Europe/Berlin:20260619T090000
DTEND;TZID=Europe/Berlin:20260619T120000
DESCRIPTION:Tickets: https://ticket.hebammenplattform.de/ikterus/\nVeransta
 lter: Hebammenplattform
DTSTAMP:20260419T145937Z
LOCATION:Online per Zoom
SUMMARY:Dr. Benjamin Kühne - Neugeborenenikterus – Bilirubin richtig ein
 ordnen\, Risiken erkennen\, sicher handeln
END:VEVENT
BEGIN:VEVENT
UID:pretix-Hebammenplattform-mengel-0@ticket.hebammenplattform.de
DTSTART;TZID=Europe/Berlin:20260622T090000
DTEND;TZID=Europe/Berlin:20260623T120000
DESCRIPTION:Tickets: https://ticket.hebammenplattform.de/mengel/\nVeranstal
 ter: Hebammenplattform
DTSTAMP:20260419T145937Z
LOCATION:Online per Zoom
SUMMARY:Susanne Mengel - Hallo Selbständigkeit! Die ersten Schritte als fr
 eiberufliche Hebamme - klar\, ehrlich & ohne Stress
END:VEVENT
BEGIN:VEVENT
UID:pretix-Hebammenplattform-drnolte-0@ticket.hebammenplattform.de
DTSTART;TZID=Europe/Berlin:20260707T090000
DTEND;TZID=Europe/Berlin:20260707T110000
DESCRIPTION:Tickets: https://ticket.hebammenplattform.de/drnolte/\nVeransta
 lter: Hebammenplattform
DTSTAMP:20260419T145937Z
LOCATION:Online per Zoom
SUMMARY:Dr. Stephan Nolte - S3 Leitlinie Fieber
END:VEVENT
BEGIN:VEVENT
UID:pretix-Hebammenplattform-maurer-0@ticket.hebammenplattform.de
DTSTART;TZID=Europe/Berlin:20260811T083000
DTEND;TZID=Europe/Berlin:20280811T160000
DESCRIPTION:Tickets: https://ticket.hebammenplattform.de/maurer/\nVeranstal
 ter: Hebammenplattform
DTSTAMP:20260419T145937Z
LOCATION:Online per Zoom
SUMMARY:Franziska Maurer - Geburt eines kranken oder verstorbenen Kindes
END:VEVENT
BEGIN:VEVENT
UID:pretix-Hebammenplattform-beikost-2-0@ticket.hebammenplattform.de
DTSTART;TZID=Europe/Berlin:20260827T090000
DTEND;TZID=Europe/Berlin:20260827T160000
DESCRIPTION:Tickets: https://ticket.hebammenplattform.de/beikost-2/\nVerans
 talter: Hebammenplattform
DTSTAMP:20260419T145937Z
LOCATION:Online per Zoom
SUMMARY:Edith Gätjen - Beikost in Beziehung – familienorientiert\, nachh
 altig\, vollwertig und hausgemacht
END:VEVENT
BEGIN:VEVENT
UID:pretix-Hebammenplattform-dotzauer-2-0@ticket.hebammenplattform.de
DTSTART;TZID=Europe/Berlin:20260916T090000
DTEND;TZID=Europe/Berlin:20260917T123000
DESCRIPTION:Tickets: https://ticket.hebammenplattform.de/dotzauer-2/\nVeran
 stalter: Hebammenplattform
DTSTAMP:20260419T145937Z
LOCATION:Online per Zoom
SUMMARY:Dr. Dotzauer - Der sichere Weg zum guten Schlaf – und was wir fü
 r Eltern und Kinder tun können
END:VEVENT
BEGIN:VEVENT
UID:pretix-Hebammenplattform-ernaehrung-2-0@ticket.hebammenplattform.de
DTSTART;TZID=Europe/Berlin:20261106T090000
DTEND;TZID=Europe/Berlin:20261106T160000
DESCRIPTION:Tickets: https://ticket.hebammenplattform.de/ernaehrung-2/\nVer
 anstalter: Hebammenplattform
DTSTAMP:20260419T145937Z
LOCATION:Online per Zoom
SUMMARY:Edith Gätjen - Ernährung in Schwangerschaft und Stillzeit
END:VEVENT
END:VCALENDAR
