BEGIN:VCALENDAR
VERSION:2.0
PRODID:-//pretix//pretix.eu//
BEGIN:VTIMEZONE
TZID:Europe/Berlin
BEGIN:STANDARD
DTSTART:20001029T040000
RRULE:FREQ=YEARLY;BYDAY=-1SU;BYMONTH=10
TZNAME:CET
TZOFFSETFROM:+0200
TZOFFSETTO:+0100
END:STANDARD
BEGIN:DAYLIGHT
DTSTART:20000326T030000
RRULE:FREQ=YEARLY;BYDAY=-1SU;BYMONTH=3
TZNAME:CEST
TZOFFSETFROM:+0100
TZOFFSETTO:+0200
END:DAYLIGHT
END:VTIMEZONE
BEGIN:VEVENT
UID:pretix-Hebammenplattform-katrin.bautsch-0@ticket.hebammenplattform.de
DTSTART;TZID=Europe/Berlin:20251002T090000
DTEND;TZID=Europe/Berlin:20251127T123000
DESCRIPTION:Tickets: https://ticket.hebammenplattform.de/katrin.bautsch/\nV
 eranstalter: Hebammenplattform
DTSTAMP:20260419T192050Z
LOCATION:Online per Zoom
SUMMARY:Stillen sicher begleiten – Deine dreiteilige Weiterbildung für s
 tarke Beratungskompetenz!
END:VEVENT
END:VCALENDAR
